BEGIN:VCALENDAR
VERSION:2.0
PRODID:-//Pallium Academy - ECPv6.15.18//NONSGML v1.0//EN
CALSCALE:GREGORIAN
METHOD:PUBLISH
X-ORIGINAL-URL:https://palliumacademy.com
X-WR-CALDESC:Events for Pallium Academy
REFRESH-INTERVAL;VALUE=DURATION:PT1H
X-Robots-Tag:noindex
X-PUBLISHED-TTL:PT1H
BEGIN:VTIMEZONE
TZID:Asia/Dhaka
BEGIN:STANDARD
TZOFFSETFROM:+0600
TZOFFSETTO:+0600
TZNAME:+06
DTSTART:20250101T000000
END:STANDARD
END:VTIMEZONE
BEGIN:VEVENT
DTSTART;TZID=Asia/Dhaka:20260101T080000
DTEND;TZID=Asia/Dhaka:20260214T170000
DTSTAMP:20260421T235158
CREATED:20250813T032257Z
LAST-MODIFIED:20250813T032444Z
UID:1363-1767254400-1771088400@palliumacademy.com
SUMMARY:Hybrid Caregiver Training – Compassionate Care at Home and Beyond
DESCRIPTION:Join us for Pallium Academy Bangladesh’s Hybrid Caregiver Training Course\, starting 1 January 2026. This 6-week program is designed to empower family caregivers\, volunteers\, and community health workers with the essential skills and knowledge to provide compassionate care to individuals with life-limiting illnesses. \nThe course combines online learning with in-person clinical training\, making it accessible and practical for participants across Bangladesh. \nMore to learn https://palliumacademy.com/hybrid-training/
URL:https://palliumacademy.com/event/hybrid-caregiver-training-compassionate-care-at-home-and-beyond/
LOCATION:Pallium Academy\, Level-6\, Plot-275/K\, Road-27 (old)\, Dhanmondi\, Dhaka\, Dhaka\, 1205\, Bangladesh
ATTACH;FMTTYPE=image/jpeg:https://palliumacademy.com/wp-content/uploads/2025/06/8.jpg
ORGANIZER;CN="Pallium Academy":MAILTO:admin@palliumacademy.com
END:VEVENT
END:VCALENDAR